BEGIN:VCALENDAR
VERSION:2.0
PRODID:-//Conisbrough Baptist Church - ECPv6.1.3//NONSGML v1.0//EN
CALSCALE:GREGORIAN
METHOD:PUBLISH
X-WR-CALNAME:Conisbrough Baptist Church
X-ORIGINAL-URL:https://conisbroughbc.co.uk
X-WR-CALDESC:Events for Conisbrough Baptist Church
REFRESH-INTERVAL;VALUE=DURATION:PT1H
X-Robots-Tag:noindex
X-PUBLISHED-TTL:PT1H
BEGIN:VTIMEZONE
TZID:Europe/London
BEGIN:DAYLIGHT
TZOFFSETFROM:+0000
TZOFFSETTO:+0100
TZNAME:BST
DTSTART:20190331T010000
END:DAYLIGHT
BEGIN:STANDARD
TZOFFSETFROM:+0100
TZOFFSETTO:+0000
TZNAME:GMT
DTSTART:20191027T010000
END:STANDARD
BEGIN:DAYLIGHT
TZOFFSETFROM:+0000
TZOFFSETTO:+0100
TZNAME:BST
DTSTART:20200329T010000
END:DAYLIGHT
BEGIN:STANDARD
TZOFFSETFROM:+0100
TZOFFSETTO:+0000
TZNAME:GMT
DTSTART:20201025T010000
END:STANDARD
BEGIN:DAYLIGHT
TZOFFSETFROM:+0000
TZOFFSETTO:+0100
TZNAME:BST
DTSTART:20210328T010000
END:DAYLIGHT
BEGIN:STANDARD
TZOFFSETFROM:+0100
TZOFFSETTO:+0000
TZNAME:GMT
DTSTART:20211031T010000
END:STANDARD
END:VTIMEZONE
BEGIN:VEVENT
DTSTART;TZID=Europe/London:20211225T100000
DTEND;TZID=Europe/London:20211225T110000
DTSTAMP:20260423T123311
CREATED:20211111T130900Z
LAST-MODIFIED:20211111T130900Z
UID:2258-1640426400-1640430000@conisbroughbc.co.uk
SUMMARY:Christmas Day service
DESCRIPTION:Note: There will be no service on Sunday\, December 26.
URL:https://conisbroughbc.co.uk/event/christmas-day-service/
LOCATION:Conisbrough Baptist Church
END:VEVENT
BEGIN:VEVENT
DTSTART;TZID=Europe/London:20211219T173000
DTEND;TZID=Europe/London:20211219T183000
DTSTAMP:20260423T123311
CREATED:20211111T130723Z
LAST-MODIFIED:20211111T130935Z
UID:2256-1639935000-1639938600@conisbroughbc.co.uk
SUMMARY:Traditional Carol service at Conisbrough Baptist Church
DESCRIPTION:Also live on YouTube.
URL:https://conisbroughbc.co.uk/event/traditional-carol-service-at-conisbrough-baptist-church/
LOCATION:Conisbrough Baptist Church
END:VEVENT
BEGIN:VEVENT
DTSTART;TZID=Europe/London:20211212T163000
DTEND;TZID=Europe/London:20211212T180000
DTSTAMP:20260423T123311
CREATED:20211111T130628Z
LAST-MODIFIED:20211111T130956Z
UID:2254-1639326600-1639332000@conisbroughbc.co.uk
SUMMARY:Food and Christmas Crafts at Conisbrough Baptist Church
DESCRIPTION:Followed by an informal Christmas service at 5.30pm. All (and all ages) welcome.
URL:https://conisbroughbc.co.uk/event/food-and-christmas-crafts-at-conisbrough-baptist-church/
LOCATION:Conisbrough Baptist Church
END:VEVENT
BEGIN:VEVENT
DTSTART;TZID=Europe/London:20211210T183000
DTEND;TZID=Europe/London:20211210T193000
DTSTAMP:20260423T123311
CREATED:20211111T130436Z
LAST-MODIFIED:20211111T130436Z
UID:2251-1639161000-1639164600@conisbroughbc.co.uk
SUMMARY:Carols at the Cenotaph
DESCRIPTION:A Churches Together service with help from Conisbrough Music Fest.
URL:https://conisbroughbc.co.uk/event/carols-at-the-cenotaph/
END:VEVENT
BEGIN:VEVENT
DTSTART;TZID=Europe/London:20200208T180000
DTEND;TZID=Europe/London:20200208T213000
DTSTAMP:20260423T123311
CREATED:20200123T171901Z
LAST-MODIFIED:20200124T122230Z
UID:1545-1581184800-1581197400@conisbroughbc.co.uk
SUMMARY:Film show
DESCRIPTION:Paddington II \nCome to church for a great film show for all ages with free refreshments
URL:https://conisbroughbc.co.uk/event/con-film-show/
CATEGORIES:Conisbrough Event
END:VEVENT
BEGIN:VEVENT
DTSTART;TZID=Europe/London:20200128T190000
DTEND;TZID=Europe/London:20200128T203000
DTSTAMP:20260423T123311
CREATED:20200123T172245Z
LAST-MODIFIED:20200124T122244Z
UID:1549-1580238000-1580243400@conisbroughbc.co.uk
SUMMARY:Exploring Christianity
DESCRIPTION:Coame and learn about the Bible with us
URL:https://conisbroughbc.co.uk/event/mexborough-exploring-christianity/
END:VEVENT
BEGIN:VEVENT
DTSTART;TZID=Europe/London:20191128T140000
DTEND;TZID=Europe/London:20191128T153000
DTSTAMP:20260423T123311
CREATED:20191112T141315Z
LAST-MODIFIED:20191112T141315Z
UID:1462-1574949600-1574955000@conisbroughbc.co.uk
SUMMARY:Home group
DESCRIPTION:Anne Wilkinson’s home group at School Terrace.
URL:https://conisbroughbc.co.uk/event/home-group-3/
END:VEVENT
BEGIN:VEVENT
DTSTART;TZID=Europe/London:20191128T093000
DTEND;TZID=Europe/London:20191128T110000
DTSTAMP:20260423T123311
CREATED:20191112T141424Z
LAST-MODIFIED:20191112T141424Z
UID:1470-1574933400-1574938800@conisbroughbc.co.uk
SUMMARY:Coffee Morning
DESCRIPTION:Come and join us for coffee and a natter.
URL:https://conisbroughbc.co.uk/event/coffee-morning-4/
LOCATION:Conisbrough Baptist Church
END:VEVENT
BEGIN:VEVENT
DTSTART;TZID=Europe/London:20191126T193000
DTEND;TZID=Europe/London:20191126T210000
DTSTAMP:20260423T123311
CREATED:20191112T135135Z
LAST-MODIFIED:20191112T135304Z
UID:1450-1574796600-1574802000@conisbroughbc.co.uk
SUMMARY:Deacons' meeting
DESCRIPTION:This will be held at 15\, Laburnam Drive
URL:https://conisbroughbc.co.uk/event/deacons-meeting/
END:VEVENT
BEGIN:VEVENT
DTSTART;TZID=Europe/London:20191124T173000
DTEND;TZID=Europe/London:20191124T180000
DTSTAMP:20260423T123311
CREATED:20191112T135238Z
LAST-MODIFIED:20191112T141741Z
UID:1452-1574616600-1574618400@conisbroughbc.co.uk
SUMMARY:Members' update
DESCRIPTION:This meeting will be in the church
URL:https://conisbroughbc.co.uk/event/members-update/
LOCATION:Conisbrough Baptist Church
END:VEVENT
BEGIN:VEVENT
DTSTART;TZID=Europe/London:20191124T060000
DTEND;TZID=Europe/London:20191124T193000
DTSTAMP:20260423T123311
CREATED:20191112T141655Z
LAST-MODIFIED:20191112T141655Z
UID:1478-1574575200-1574623800@conisbroughbc.co.uk
SUMMARY:Worship
DESCRIPTION:
URL:https://conisbroughbc.co.uk/event/worship-4/
LOCATION:Conisbrough Baptist Church
END:VEVENT
BEGIN:VEVENT
DTSTART;TZID=Europe/London:20191121T140000
DTEND;TZID=Europe/London:20191121T153000
DTSTAMP:20260423T123311
CREATED:20191112T141259Z
LAST-MODIFIED:20191112T141259Z
UID:1463-1574344800-1574350200@conisbroughbc.co.uk
SUMMARY:Home group
DESCRIPTION:Anne Wilkinson’s home group at School Terrace.
URL:https://conisbroughbc.co.uk/event/home-group-2/
END:VEVENT
BEGIN:VEVENT
DTSTART;TZID=Europe/London:20191121T093000
DTEND;TZID=Europe/London:20191121T110000
DTSTAMP:20260423T123311
CREATED:20191112T141050Z
LAST-MODIFIED:20191112T141110Z
UID:1457-1574328600-1574334000@conisbroughbc.co.uk
SUMMARY:Coffee Morning
DESCRIPTION:Come and join us for coffee and a natter.
URL:https://conisbroughbc.co.uk/event/coffee-morning-2/
LOCATION:Conisbrough Baptist Church
END:VEVENT
BEGIN:VEVENT
DTSTART;TZID=Europe/London:20191117T060000
DTEND;TZID=Europe/London:20191117T193000
DTSTAMP:20260423T123311
CREATED:20191112T141638Z
LAST-MODIFIED:20191112T141638Z
UID:1474-1573970400-1574019000@conisbroughbc.co.uk
SUMMARY:Worship
DESCRIPTION:
URL:https://conisbroughbc.co.uk/event/worship-3/
LOCATION:Conisbrough Baptist Church
END:VEVENT
BEGIN:VEVENT
DTSTART;TZID=Europe/London:20191114T140000
DTEND;TZID=Europe/London:20191114T153000
DTSTAMP:20260423T123311
CREATED:20191112T141230Z
LAST-MODIFIED:20191112T141230Z
UID:1459-1573740000-1573745400@conisbroughbc.co.uk
SUMMARY:Home group
DESCRIPTION:Anne Wilkinson’s home group at School Terrace.
URL:https://conisbroughbc.co.uk/event/home-group/
END:VEVENT
BEGIN:VEVENT
DTSTART;TZID=Europe/London:20191114T093000
DTEND;TZID=Europe/London:20191114T110000
DTSTAMP:20260423T123311
CREATED:20191112T060959Z
LAST-MODIFIED:20191112T061341Z
UID:1435-1573723800-1573729200@conisbroughbc.co.uk
SUMMARY:Coffee Morning
DESCRIPTION:Come and join us for coffee and a natter.
URL:https://conisbroughbc.co.uk/event/coffee-morning/
LOCATION:Conisbrough Baptist Church
END:VEVENT
BEGIN:VEVENT
DTSTART;TZID=Europe/London:20191112T190000
DTEND;TZID=Europe/London:20191112T210000
DTSTAMP:20260423T123311
CREATED:20191112T051118Z
LAST-MODIFIED:20191112T052531Z
UID:1422-1573585200-1573592400@conisbroughbc.co.uk
SUMMARY:Bible Study
DESCRIPTION:Gerald’s Bible discussion group. All are welcome.
URL:https://conisbroughbc.co.uk/event/bible-study/
LOCATION:Conisbrough Baptist Church
END:VEVENT
BEGIN:VEVENT
DTSTART;TZID=Europe/London:20191110T060000
DTEND;TZID=Europe/London:20191110T193000
DTSTAMP:20260423T123311
CREATED:20191112T141625Z
LAST-MODIFIED:20191112T141625Z
UID:1475-1573365600-1573414200@conisbroughbc.co.uk
SUMMARY:Worship
DESCRIPTION:
URL:https://conisbroughbc.co.uk/event/worship-2/
LOCATION:Conisbrough Baptist Church
END:VEVENT
BEGIN:VEVENT
DTSTART;TZID=Europe/London:20191109T140000
DTEND;TZID=Europe/London:20191109T160000
DTSTAMP:20260423T123311
CREATED:20191112T050331Z
LAST-MODIFIED:20191112T050423Z
UID:1407-1573308000-1573315200@conisbroughbc.co.uk
SUMMARY:November Craft
DESCRIPTION:Come along and make Advent calendars and Remembrance Sunday crafts. \nAll welcome
URL:https://conisbroughbc.co.uk/event/november-craft/
END:VEVENT
BEGIN:VEVENT
DTSTART;TZID=Europe/London:20191107T140000
DTEND;TZID=Europe/London:20191107T153000
DTSTAMP:20260423T123311
CREATED:20191112T141329Z
LAST-MODIFIED:20191112T141329Z
UID:1461-1573135200-1573140600@conisbroughbc.co.uk
SUMMARY:Home group
DESCRIPTION:Anne Wilkinson’s home group at School Terrace.
URL:https://conisbroughbc.co.uk/event/home-group-4/
END:VEVENT
BEGIN:VEVENT
DTSTART;TZID=Europe/London:20191107T093000
DTEND;TZID=Europe/London:20191107T110000
DTSTAMP:20260423T123311
CREATED:20191112T141400Z
LAST-MODIFIED:20191112T141400Z
UID:1468-1573119000-1573124400@conisbroughbc.co.uk
SUMMARY:Coffee Morning
DESCRIPTION:Come and join us for coffee and a natter.
URL:https://conisbroughbc.co.uk/event/coffee-morning-3/
LOCATION:Conisbrough Baptist Church
END:VEVENT
BEGIN:VEVENT
DTSTART;TZID=Europe/London:20191103T060000
DTEND;TZID=Europe/London:20191103T193000
DTSTAMP:20260423T123311
CREATED:20191112T141601Z
LAST-MODIFIED:20191112T141601Z
UID:1472-1572760800-1572809400@conisbroughbc.co.uk
SUMMARY:Worship
DESCRIPTION:
URL:https://conisbroughbc.co.uk/event/worship/
LOCATION:Conisbrough Baptist Church
END:VEVENT
END:VCALENDAR